BEGIN:VCALENDAR
VERSION:2.0
PRODID:-//wp-events-plugin.com//7.2.3.1//EN
TZID:Europe/London
X-WR-TIMEZONE:Europe/London
BEGIN:VEVENT
UID:413@roystonphotographicsociety.co.uk
DTSTART;TZID=Europe/London:20220310T194500
DTEND;TZID=Europe/London:20220310T220000
DTSTAMP:20220104T133322Z
URL:https://roystonphotographicsociety.co.uk/events/10th-march-club-night-
 landscape-group/
SUMMARY:10th March: Club Night - Landscape Group
DESCRIPTION:Update
END:VEVENT
BEGIN:VTIMEZONE
TZID:Europe/London
X-LIC-LOCATION:Europe/London
BEGIN:STANDARD
DTSTART:20211031T010000
TZOFFSETFROM:+0100
TZOFFSETTO:+0000
TZNAME:GMT
END:STANDARD
END:VTIMEZONE
END:VCALENDAR