BEGIN:VCALENDAR
VERSION:2.0
PRODID:-//wp-events-plugin.com//7.2.3.1//EN
TZID:Europe/London
X-WR-TIMEZONE:Europe/London
BEGIN:VEVENT
UID:433@roystonphotographicsociety.co.uk
DTSTART;TZID=Europe/London:20230112T194500
DTEND;TZID=Europe/London:20230112T220000
DTSTAMP:20220926T120534Z
URL:https://roystonphotographicsociety.co.uk/events/12th-january/
SUMMARY:12th January: Competition 4 - Open Print
DESCRIPTION:Icknield Walk First School\nPoplar Drive\,\nRoyston\,\nHertford
 shire. SG8 7EZ\n\nTelephone: 01763 243 392\nEmail: admin@icknieldwalk.hert
 s.sch.uk\nPlease address all enquiries to Mrs Rachel Kimsey\n\n \n\n
LOCATION:\, \, 
X-APPLE-STRUCTURED-LOCATION;VALUE=URI;X-ADDRESS=\, ;X-APPLE-RADIUS=100;X-TI
 TLE=:geo:0,0
END:VEVENT
BEGIN:VTIMEZONE
TZID:Europe/London
X-LIC-LOCATION:Europe/London
BEGIN:STANDARD
DTSTART:20221030T010000
TZOFFSETFROM:+0100
TZOFFSETTO:+0000
TZNAME:GMT
END:STANDARD
END:VTIMEZONE
END:VCALENDAR