BEGIN:VCALENDAR
VERSION:2.0
PRODID:-//wp-events-plugin.com//7.2.3.1//EN
TZID:Europe/London
X-WR-TIMEZONE:Europe/London
BEGIN:VEVENT
UID:477@roystonphotographicsociety.co.uk
DTSTART;TZID=Europe/London:20231012T194500
DTEND;TZID=Europe/London:20231012T220000
DTSTAMP:20231010T120841Z
URL:https://roystonphotographicsociety.co.uk/events/12th-october-tbd-2/
SUMMARY:12th October - Talk about our images
DESCRIPTION:using images from the last competition - explain why\, and how 
 you took the photo\, and what postprocessing you used..
LOCATION:Icknield Walk\, Poplar Drive\, Royston\, Hertfordshire\, SG8 7EZ\,
  United Kingdom
X-APPLE-STRUCTURED-LOCATION;VALUE=URI;X-ADDRESS=Poplar Drive\, Royston\, He
 rtfordshire\, SG8 7EZ\, United Kingdom;X-APPLE-RADIUS=100;X-TITLE=Icknield
  Walk:geo:0,0
END:VEVENT
BEGIN:VTIMEZONE
TZID:Europe/London
X-LIC-LOCATION:Europe/London
BEGIN:DAYLIGHT
DTSTART:20230326T020000
TZOFFSETFROM:+0000
TZOFFSETTO:+0100
TZNAME:BST
END:DAYLIGHT
END:VTIMEZONE
END:VCALENDAR