BEGIN:VCALENDAR
VERSION:2.0
PRODID:-//wp-events-plugin.com//7.2.3.1//EN
TZID:Europe/London
X-WR-TIMEZONE:Europe/London
BEGIN:VEVENT
UID:455@roystonphotographicsociety.co.uk
DTSTART;TZID=Europe/London;VALUE=DATE:20230413
DTEND;TZID=Europe/London;VALUE=DATE:20230414
DTSTAMP:20230303T161731Z
URL:https://roystonphotographicsociety.co.uk/events/13th-april-easter-brea
 k-no-club/
SUMMARY:13th April: Easter Break - No Club
DESCRIPTION:
END:VEVENT
BEGIN:VTIMEZONE
TZID:Europe/London
X-LIC-LOCATION:Europe/London
BEGIN:DAYLIGHT
DTSTART:20230326T020000
TZOFFSETFROM:+0000
TZOFFSETTO:+0100
TZNAME:BST
END:DAYLIGHT
END:VTIMEZONE
END:VCALENDAR