BEGIN:VCALENDAR
VERSION:2.0
PRODID:-//wp-events-plugin.com//7.2.3.1//EN
TZID:Europe/London
X-WR-TIMEZONE:Europe/London
BEGIN:VEVENT
UID:440@roystonphotographicsociety.co.uk
DTSTART;TZID=Europe/London:20221013T194500
DTEND;TZID=Europe/London:20221013T220000
DTSTAMP:20220823T184908Z
URL:https://roystonphotographicsociety.co.uk/events/13th-october-2022-post
 -processsing-software-on-zoom/
SUMMARY:13th October 2022: Post processsing software on ZOOM
DESCRIPTION:The theme will be on blurring backgrounds but also send in your
  questions about any other processing that you would like to be covered.\n
 \nSoftware covered will be Photoshop Elements\, Lightroom\, Photoshop\, To
 paz De-Noise\, Sharpen and Gigapixel\, DXO Deep Prime.\n\nled by Phil Grav
 ett
END:VEVENT
BEGIN:VTIMEZONE
TZID:Europe/London
X-LIC-LOCATION:Europe/London
BEGIN:DAYLIGHT
DTSTART:20220327T020000
TZOFFSETFROM:+0000
TZOFFSETTO:+0100
TZNAME:BST
END:DAYLIGHT
END:VTIMEZONE
END:VCALENDAR