BEGIN:VCALENDAR
VERSION:2.0
PRODID:-//wp-events-plugin.com//7.2.3.1//EN
TZID:Europe/London
X-WR-TIMEZONE:Europe/London
BEGIN:VEVENT
UID:482@roystonphotographicsociety.co.uk
DTSTART;TZID=Europe/London:20231214T194500
DTEND;TZID=Europe/London:20231214T220000
DTSTAMP:20231201T121246Z
URL:https://roystonphotographicsociety.co.uk/events/14th-december-zoom-lan
 dscapes/
SUMMARY:14th  December: ZOOM - Landscapes
DESCRIPTION:Hosted by Landscape Group with images of their trip to Sudbury 
 Meadows.\nNon Landscape group are also invited to upload up to 2 images of
  Landscape to PhotoEntry
END:VEVENT
BEGIN:VTIMEZONE
TZID:Europe/London
X-LIC-LOCATION:Europe/London
BEGIN:STANDARD
DTSTART:20231029T010000
TZOFFSETFROM:+0100
TZOFFSETTO:+0000
TZNAME:GMT
END:STANDARD
END:VTIMEZONE
END:VCALENDAR