BEGIN:VCALENDAR
VERSION:2.0
PRODID:-//wp-events-plugin.com//7.2.3.1//EN
TZID:Europe/London
X-WR-TIMEZONE:Europe/London
BEGIN:VEVENT
UID:445@roystonphotographicsociety.co.uk
DTSTART;TZID=Europe/London:20221215T194500
DTEND;TZID=Europe/London:20221215T220000
DTSTAMP:20221026T103626Z
URL:https://roystonphotographicsociety.co.uk/events/15th-december-festive-
 before-christmas/
SUMMARY:15th December: Festive before Christmas
DESCRIPTION:show your prints\, mulled wine\, mince pies
LOCATION:Icknield Walk First School\, Poplar Drive\, ROYSTON\, Hertfordshir
 e\, SG8 6EZ\, United Kingdom
X-APPLE-STRUCTURED-LOCATION;VALUE=URI;X-ADDRESS=Poplar Drive\, ROYSTON\, He
 rtfordshire\, SG8 6EZ\, United Kingdom;X-APPLE-RADIUS=100;X-TITLE=Icknield
  Walk First School:geo:0,0
END:VEVENT
BEGIN:VTIMEZONE
TZID:Europe/London
X-LIC-LOCATION:Europe/London
BEGIN:STANDARD
DTSTART:20221030T010000
TZOFFSETFROM:+0100
TZOFFSETTO:+0000
TZNAME:GMT
END:STANDARD
END:VTIMEZONE
END:VCALENDAR