BEGIN:VCALENDAR
VERSION:2.0
PRODID:-//wp-events-plugin.com//7.2.3.1//EN
TZID:Europe/London
X-WR-TIMEZONE:Europe/London
BEGIN:VEVENT
UID:437@roystonphotographicsociety.co.uk
DTSTART;TZID=Europe/London:20220915T194500
DTEND;TZID=Europe/London:20220915T220000
DTSTAMP:20220823T174748Z
URL:https://roystonphotographicsociety.co.uk/events/15th-september-our-nat
 ure-photography/
SUMMARY:15th September - Our Nature Photography
DESCRIPTION:Share your Nature Images - any age photos - upload to PhotoEntr
 y or bring Prints
LOCATION:\, \, 
X-APPLE-STRUCTURED-LOCATION;VALUE=URI;X-ADDRESS=\, ;X-APPLE-RADIUS=100;X-TI
 TLE=:geo:0,0
END:VEVENT
BEGIN:VTIMEZONE
TZID:Europe/London
X-LIC-LOCATION:Europe/London
BEGIN:DAYLIGHT
DTSTART:20220327T020000
TZOFFSETFROM:+0000
TZOFFSETTO:+0100
TZNAME:BST
END:DAYLIGHT
END:VTIMEZONE
END:VCALENDAR