BEGIN:VCALENDAR
VERSION:2.0
PRODID:-//wp-events-plugin.com//7.2.3.1//EN
TZID:Europe/London
X-WR-TIMEZONE:Europe/London
BEGIN:VEVENT
UID:418@roystonphotographicsociety.co.uk
DTSTART;TZID=Europe/London:20220616T000000
DTEND;TZID=Europe/London:20220616T000000
DTSTAMP:20220521T100840Z
URL:https://roystonphotographicsociety.co.uk/events/16th-june-no-club-nigh
 t/
SUMMARY:16th June - No Club night
DESCRIPTION:
END:VEVENT
BEGIN:VTIMEZONE
TZID:Europe/London
X-LIC-LOCATION:Europe/London
BEGIN:DAYLIGHT
DTSTART:20220327T020000
TZOFFSETFROM:+0000
TZOFFSETTO:+0100
TZNAME:BST
END:DAYLIGHT
END:VTIMEZONE
END:VCALENDAR