BEGIN:VCALENDAR
VERSION:2.0
PRODID:-//wp-events-plugin.com//7.2.3.1//EN
TZID:Europe/London
X-WR-TIMEZONE:Europe/London
BEGIN:VEVENT
UID:435@roystonphotographicsociety.co.uk
DTSTART;TZID=Europe/London:20230316T194500
DTEND;TZID=Europe/London:20230316T220000
DTSTAMP:20230223T114951Z
URL:https://roystonphotographicsociety.co.uk/events/16th-march-competition
 -6/
SUMMARY:16th March: Competition 6 - Macro/ Close up Print
DESCRIPTION:Subject: Macro/Close up - Print\n\nJudge: Ken Payne
LOCATION:\, \, 
X-APPLE-STRUCTURED-LOCATION;VALUE=URI;X-ADDRESS=\, ;X-APPLE-RADIUS=100;X-TI
 TLE=:geo:0,0
END:VEVENT
BEGIN:VTIMEZONE
TZID:Europe/London
X-LIC-LOCATION:Europe/London
BEGIN:STANDARD
DTSTART:20221030T010000
TZOFFSETFROM:+0100
TZOFFSETTO:+0000
TZNAME:GMT
END:STANDARD
END:VTIMEZONE
END:VCALENDAR