BEGIN:VCALENDAR
VERSION:2.0
PRODID:-//wp-events-plugin.com//7.2.3.1//EN
TZID:Europe/London
X-WR-TIMEZONE:Europe/London
BEGIN:VEVENT
UID:441@roystonphotographicsociety.co.uk
DTSTART;TZID=Europe/London:20220916T190000
DTEND;TZID=Europe/London:20220916T210000
DTSTAMP:20220824T153543Z
URL:https://roystonphotographicsociety.co.uk/events/16th-september-private
 -view-for-the-museum-exhibition/
SUMMARY:16th September - Private View for the Museum Exhibition
DESCRIPTION:With wine and nibbles provided by The Friends of Royston Museum
 .\n\n&nbsp\;
LOCATION:Royston Museum\, 5\, Lower King Street\, \, Royston\, Herts\, SG8 
 5AL\, United Kingdom
X-APPLE-STRUCTURED-LOCATION;VALUE=URI;X-ADDRESS=5\, Lower King Street\, \, 
 Royston\, Herts\, SG8 5AL\, United Kingdom;X-APPLE-RADIUS=100;X-TITLE=Roys
 ton Museum:geo:0,0
END:VEVENT
BEGIN:VTIMEZONE
TZID:Europe/London
X-LIC-LOCATION:Europe/London
BEGIN:DAYLIGHT
DTSTART:20220327T020000
TZOFFSETFROM:+0000
TZOFFSETTO:+0100
TZNAME:BST
END:DAYLIGHT
END:VTIMEZONE
END:VCALENDAR