BEGIN:VCALENDAR
VERSION:2.0
PRODID:-//wp-events-plugin.com//7.2.3.1//EN
TZID:Europe/London
X-WR-TIMEZONE:Europe/London
BEGIN:VEVENT
UID:443@roystonphotographicsociety.co.uk
DTSTART;TZID=Europe/London:20221117T193000
DTEND;TZID=Europe/London:20221117T220000
DTSTAMP:20221026T103203Z
URL:https://roystonphotographicsociety.co.uk/events/17th-november-studio-n
 ight-tim-somervells-farm/
SUMMARY:17th November: Studio Night Tim Somervell's farm
DESCRIPTION:more details to be published
END:VEVENT
BEGIN:VTIMEZONE
TZID:Europe/London
X-LIC-LOCATION:Europe/London
BEGIN:STANDARD
DTSTART:20221030T010000
TZOFFSETFROM:+0100
TZOFFSETTO:+0000
TZNAME:GMT
END:STANDARD
END:VTIMEZONE
END:VCALENDAR