BEGIN:VCALENDAR
VERSION:2.0
PRODID:-//wp-events-plugin.com//7.2.3.1//EN
TZID:Europe/London
X-WR-TIMEZONE:Europe/London
BEGIN:VEVENT
UID:487@roystonphotographicsociety.co.uk
DTSTART;TZID=Europe/London:20240222T194500
DTEND;TZID=Europe/London:20240222T220000
DTSTAMP:20240209T164458Z
URL:https://roystonphotographicsociety.co.uk/events/22nd-february-no-club-
 half-term/
SUMMARY:22nd February - Landscape group review on ZOOM
DESCRIPTION:review images from a trip to Shuttleworth (and others)
END:VEVENT
BEGIN:VTIMEZONE
TZID:Europe/London
X-LIC-LOCATION:Europe/London
BEGIN:STANDARD
DTSTART:20231029T010000
TZOFFSETFROM:+0100
TZOFFSETTO:+0000
TZNAME:GMT
END:STANDARD
END:VTIMEZONE
END:VCALENDAR