BEGIN:VCALENDAR
VERSION:2.0
PRODID:-//wp-events-plugin.com//7.2.3.1//EN
TZID:Europe/London
X-WR-TIMEZONE:Europe/London
BEGIN:VEVENT
UID:438@roystonphotographicsociety.co.uk
DTSTART;TZID=Europe/London:20220922T194500
DTEND;TZID=Europe/London:20220922T220000
DTSTAMP:20220823T175243Z
URL:https://roystonphotographicsociety.co.uk/events/22nd-september-scape-p
 hotography-night/
SUMMARY:22nd September:  Scape Photography Night
DESCRIPTION:Share you scape images - any age ph0t0\, any place \\(landscape
 \, seascape\, cityscape etc).\n\nUpload your scape images by 21st Septembe
 r to PhotoEntry - or bring prints.&nbsp\;\n\nShare details about the photo
 graphs
LOCATION:\, \, 
X-APPLE-STRUCTURED-LOCATION;VALUE=URI;X-ADDRESS=\, ;X-APPLE-RADIUS=100;X-TI
 TLE=:geo:0,0
END:VEVENT
BEGIN:VTIMEZONE
TZID:Europe/London
X-LIC-LOCATION:Europe/London
BEGIN:DAYLIGHT
DTSTART:20220327T020000
TZOFFSETFROM:+0000
TZOFFSETTO:+0100
TZNAME:BST
END:DAYLIGHT
END:VTIMEZONE
END:VCALENDAR