BEGIN:VCALENDAR
VERSION:2.0
PRODID:-//wp-events-plugin.com//7.2.3.1//EN
TZID:Europe/London
X-WR-TIMEZONE:Europe/London
BEGIN:VEVENT
UID:426@roystonphotographicsociety.co.uk
DTSTART;TZID=Europe/London:20230223T194500
DTEND;TZID=Europe/London:20230223T220000
DTSTAMP:20220717T143818Z
URL:https://roystonphotographicsociety.co.uk/events/23-february-speaker-on
 -zoom-martin-patten-critique-your-images/
SUMMARY:23 February: Speaker on ZOOM:  Martin Patten - Critique your images
DESCRIPTION:
END:VEVENT
BEGIN:VTIMEZONE
TZID:Europe/London
X-LIC-LOCATION:Europe/London
BEGIN:STANDARD
DTSTART:20221030T010000
TZOFFSETFROM:+0100
TZOFFSETTO:+0000
TZNAME:GMT
END:STANDARD
END:VTIMEZONE
END:VCALENDAR