BEGIN:VCALENDAR
VERSION:2.0
PRODID:-//wp-events-plugin.com//7.2.3.1//EN
TZID:Europe/London
X-WR-TIMEZONE:Europe/London
BEGIN:VEVENT
UID:427@roystonphotographicsociety.co.uk
DTSTART;TZID=Europe/London:20230323T194500
DTEND;TZID=Europe/London:20230323T220000
DTSTAMP:20230317T131415Z
URL:https://roystonphotographicsociety.co.uk/events/23rd-march-speaker-bob
 -brind-surch-macro/
SUMMARY:23rd March: Speaker - Bob Brind Surch : Dare to Focus
DESCRIPTION:Smart Shooting Part 3 - "from the Ordinary to the Extra Ordinar
 y" - dare to Focus
LOCATION:Icknield Walk\, Poplar Drive\, Royston\, Hertfordshire\, SG8 7EZ\,
  United Kingdom
X-APPLE-STRUCTURED-LOCATION;VALUE=URI;X-ADDRESS=Poplar Drive\, Royston\, He
 rtfordshire\, SG8 7EZ\, United Kingdom;X-APPLE-RADIUS=100;X-TITLE=Icknield
  Walk:geo:0,0
END:VEVENT
BEGIN:VTIMEZONE
TZID:Europe/London
X-LIC-LOCATION:Europe/London
BEGIN:STANDARD
DTSTART:20221030T010000
TZOFFSETFROM:+0100
TZOFFSETTO:+0000
TZNAME:GMT
END:STANDARD
END:VTIMEZONE
END:VCALENDAR