BEGIN:VCALENDAR
VERSION:2.0
PRODID:-//wp-events-plugin.com//7.2.3.1//EN
TZID:Europe/London
X-WR-TIMEZONE:Europe/London
BEGIN:VEVENT
UID:484@roystonphotographicsociety.co.uk
DTSTART;TZID=Europe/London:20240125T194500
DTEND;TZID=Europe/London:20240125T220000
DTSTAMP:20240102T152657Z
URL:https://roystonphotographicsociety.co.uk/events/25th-january-2024-ligh
 troom-software-talk-and-demo-zoom/
SUMMARY:25th January 2024 - Lightroom Software Talk and Demo - ZOOM
DESCRIPTION:presented by Phil Gravett
END:VEVENT
BEGIN:VTIMEZONE
TZID:Europe/London
X-LIC-LOCATION:Europe/London
BEGIN:STANDARD
DTSTART:20231029T010000
TZOFFSETFROM:+0100
TZOFFSETTO:+0000
TZNAME:GMT
END:STANDARD
END:VTIMEZONE
END:VCALENDAR