BEGIN:VCALENDAR
VERSION:2.0
PRODID:-//wp-events-plugin.com//7.2.3.1//EN
TZID:Europe/London
X-WR-TIMEZONE:Europe/London
BEGIN:VEVENT
UID:448@roystonphotographicsociety.co.uk
DTSTART;TZID=Europe/London:20230126T194500
DTEND;TZID=Europe/London:20230126T220000
DTSTAMP:20230114T133702Z
URL:https://roystonphotographicsociety.co.uk/events/26th-january-lightroom
 -phil-gravett/
SUMMARY:26th January:  Lightroom  - Phil Gravett
DESCRIPTION:Phil will lead us through the new features in Lightroom and how
  to use them. -&nbsp\;\n\n&nbsp\;
LOCATION:Icknield Walk\, Poplar Drive\, Royston\, Hertfordshire\, SG8 7EZ\,
  United Kingdom
X-APPLE-STRUCTURED-LOCATION;VALUE=URI;X-ADDRESS=Poplar Drive\, Royston\, He
 rtfordshire\, SG8 7EZ\, United Kingdom;X-APPLE-RADIUS=100;X-TITLE=Icknield
  Walk:geo:0,0
END:VEVENT
BEGIN:VTIMEZONE
TZID:Europe/London
X-LIC-LOCATION:Europe/London
BEGIN:STANDARD
DTSTART:20221030T010000
TZOFFSETFROM:+0100
TZOFFSETTO:+0000
TZNAME:GMT
END:STANDARD
END:VTIMEZONE
END:VCALENDAR