BEGIN:VCALENDAR
VERSION:2.0
PRODID:-//wp-events-plugin.com//7.2.3.1//EN
TZID:Europe/London
X-WR-TIMEZONE:Europe/London
BEGIN:VEVENT
UID:408@roystonphotographicsociety.co.uk
DTSTART;TZID=Europe/London:20220526T194500
DTEND;TZID=Europe/London:20220526T220000
DTSTAMP:20220317T191855Z
URL:https://roystonphotographicsociety.co.uk/events/26th-may-speaker-colin
 -westgate/
SUMMARY:26th May: Speaker: Colin Westgate:
DESCRIPTION:ZOOM&nbsp\;
END:VEVENT
BEGIN:VTIMEZONE
TZID:Europe/London
X-LIC-LOCATION:Europe/London
BEGIN:DAYLIGHT
DTSTART:20220327T020000
TZOFFSETFROM:+0000
TZOFFSETTO:+0100
TZNAME:BST
END:DAYLIGHT
END:VTIMEZONE
END:VCALENDAR