BEGIN:VCALENDAR
VERSION:2.0
PRODID:-//wp-events-plugin.com//7.2.3.1//EN
TZID:Europe/London
X-WR-TIMEZONE:Europe/London
BEGIN:VEVENT
UID:474@roystonphotographicsociety.co.uk
DTSTART;TZID=Europe/London:20231026T200000
DTEND;TZID=Europe/London:20231026T220000
DTSTAMP:20231020T110642Z
URL:https://roystonphotographicsociety.co.uk/events/26th-october-school-is
 -closed-half-term/
SUMMARY:26th October - School is closed\, landscape group ZOOM meeting inst
 ead
DESCRIPTION:Instead A ZOOM meeting reviewing images from Rowney Warren outi
 ng in October.&nbsp\; Everyone is welcome
END:VEVENT
BEGIN:VTIMEZONE
TZID:Europe/London
X-LIC-LOCATION:Europe/London
BEGIN:DAYLIGHT
DTSTART:20230326T020000
TZOFFSETFROM:+0000
TZOFFSETTO:+0100
TZNAME:BST
END:DAYLIGHT
END:VTIMEZONE
END:VCALENDAR