BEGIN:VCALENDAR
VERSION:2.0
PRODID:-//wp-events-plugin.com//7.2.3.1//EN
TZID:Europe/London
X-WR-TIMEZONE:Europe/London
BEGIN:VEVENT
UID:406@roystonphotographicsociety.co.uk
DTSTART;TZID=Europe/London:20220428T194500
DTEND;TZID=Europe/London:20220428T220000
DTSTAMP:20220317T191519Z
URL:https://roystonphotographicsociety.co.uk/events/28th-april-speaker-and
 -demo-mark-padovan-printing-canon/
SUMMARY:28th April: Speaker and demo: Mark Padovan - Printing (Canon)
DESCRIPTION:if in class then demo of printing
LOCATION:Foxton Village Hall\, Foxton Village Hall\, Foxton - Hardman Road\
 , CBB22 6RN\, Cambridgshire\, United Kingdom
X-APPLE-STRUCTURED-LOCATION;VALUE=URI;X-ADDRESS=Foxton Village Hall\, Foxto
 n - Hardman Road\, CBB22 6RN\, Cambridgshire\, United Kingdom;X-APPLE-RADI
 US=100;X-TITLE=Foxton Village Hall:geo:0,0
END:VEVENT
BEGIN:VTIMEZONE
TZID:Europe/London
X-LIC-LOCATION:Europe/London
BEGIN:DAYLIGHT
DTSTART:20220327T020000
TZOFFSETFROM:+0000
TZOFFSETTO:+0100
TZNAME:BST
END:DAYLIGHT
END:VTIMEZONE
END:VCALENDAR