BEGIN:VCALENDAR
VERSION:2.0
PRODID:-//wp-events-plugin.com//7.2.3.1//EN
TZID:Europe/London
X-WR-TIMEZONE:Europe/London
BEGIN:VEVENT
UID:439@roystonphotographicsociety.co.uk
DTSTART;TZID=Europe/London:20220929T194500
DTEND;TZID=Europe/London:20220929T220000
DTSTAMP:20220823T184454Z
URL:https://roystonphotographicsociety.co.uk/events/29th-september-practic
 al-night-lightbox-macro-set-ups/
SUMMARY:29th September: Practical Night - Lightbox\, Macro set ups
DESCRIPTION:A number of our members have this light box set up\, so I will 
 be asking them to bring them along to the club night to allow members to s
 hare easily.&nbsp\; (Tip: If you have this set up change the bulbs from ha
 logen to LED to avoid burns!)\n\nYou need to bring your camera (essential)
 \, tripod (not essential but avoids having to swap onto “club” tripod)
 \, ornaments or any other subject matter that you wish to photograph\, or 
 you are happy to let other members photograph.\n\nYou can hone your skills
  on lighting\, macro photography\, focus bracketing\, in camera movement\,
  multiple exposures – the list is endless.\nMore to the point you can sh
 are your results and experiences with other members.
LOCATION:\, \, 
X-APPLE-STRUCTURED-LOCATION;VALUE=URI;X-ADDRESS=\, ;X-APPLE-RADIUS=100;X-TI
 TLE=:geo:0,0
END:VEVENT
BEGIN:VTIMEZONE
TZID:Europe/London
X-LIC-LOCATION:Europe/London
BEGIN:DAYLIGHT
DTSTART:20220327T020000
TZOFFSETFROM:+0000
TZOFFSETTO:+0100
TZNAME:BST
END:DAYLIGHT
END:VTIMEZONE
END:VCALENDAR