BEGIN:VCALENDAR
VERSION:2.0
PRODID:-//wp-events-plugin.com//7.2.3.1//EN
TZID:Europe/London
X-WR-TIMEZONE:Europe/London
BEGIN:VEVENT
UID:584@roystonphotographicsociety.co.uk
DTSTART;TZID=Europe/London:20260409T000000
DTEND;TZID=Europe/London:20260409T000000
DTSTAMP:20251112T164322Z
URL:https://roystonphotographicsociety.co.uk/events/2nd-april-easter-break
 /
SUMMARY:9th April - Easter Break
DESCRIPTION:school holiday
END:VEVENT
BEGIN:VTIMEZONE
TZID:Europe/London
X-LIC-LOCATION:Europe/London
BEGIN:DAYLIGHT
DTSTART:20260329T020000
TZOFFSETFROM:+0000
TZOFFSETTO:+0100
TZNAME:BST
END:DAYLIGHT
END:VTIMEZONE
END:VCALENDAR