BEGIN:VCALENDAR
VERSION:2.0
PRODID:-//wp-events-plugin.com//7.2.3.1//EN
TZID:Europe/London
X-WR-TIMEZONE:Europe/London
BEGIN:VEVENT
UID:449@roystonphotographicsociety.co.uk
DTSTART;TZID=Europe/London:20230202T194500
DTEND;TZID=Europe/London:20230202T220000
DTSTAMP:20230224T100338Z
URL:https://roystonphotographicsociety.co.uk/events/2nd-february-club-nigh
 t-critique-your-images/
SUMMARY:2nd February: Club Night: Critique your images
DESCRIPTION:Panel of 3 volunteers ?&nbsp\; to critique members images . Pro
 vide&nbsp\; your images prints or PDS.
LOCATION:\, \, 
X-APPLE-STRUCTURED-LOCATION;VALUE=URI;X-ADDRESS=\, ;X-APPLE-RADIUS=100;X-TI
 TLE=:geo:0,0
END:VEVENT
BEGIN:VTIMEZONE
TZID:Europe/London
X-LIC-LOCATION:Europe/London
BEGIN:STANDARD
DTSTART:20221030T010000
TZOFFSETFROM:+0100
TZOFFSETTO:+0000
TZNAME:GMT
END:STANDARD
END:VTIMEZONE
END:VCALENDAR