BEGIN:VCALENDAR
VERSION:2.0
PRODID:-//wp-events-plugin.com//7.2.3.1//EN
TZID:Europe/London
X-WR-TIMEZONE:Europe/London
BEGIN:VEVENT
UID:446@roystonphotographicsociety.co.uk
DTSTART;TZID=Europe/London:20230202T194500
DTEND;TZID=Europe/London:20230202T220000
DTSTAMP:20221230T135159Z
URL:https://roystonphotographicsociety.co.uk/events/2nd-february-speaker-t
 im-somervell/
SUMMARY:2nd February: Speaker- Tim Somervell
DESCRIPTION:Tim Somervell will take us through - Tanzania\, Lake Manyara\, 
 Southern Serengetti and Ngorongoro Crater.\nThe event will take place in&n
 bsp\;\n\nIcknield Walk First School\nPoplar Drive\nRoyston\nHertfordshire\
 nSG8 7EZ\n\n&nbsp\;\n\n&nbsp\;
END:VEVENT
BEGIN:VTIMEZONE
TZID:Europe/London
X-LIC-LOCATION:Europe/London
BEGIN:STANDARD
DTSTART:20221030T010000
TZOFFSETFROM:+0100
TZOFFSETTO:+0000
TZNAME:GMT
END:STANDARD
END:VTIMEZONE
END:VCALENDAR