BEGIN:VCALENDAR
VERSION:2.0
PRODID:-//wp-events-plugin.com//7.2.3.1//EN
TZID:Europe/London
X-WR-TIMEZONE:Europe/London
BEGIN:VEVENT
UID:417@roystonphotographicsociety.co.uk
DTSTART;TZID=Europe/London:20220602T180000
DTEND;TZID=Europe/London:20220602T200000
DTSTAMP:20220521T100742Z
URL:https://roystonphotographicsociety.co.uk/events/2nd-june-outings-butte
 rflies-and-or-fowlmere-bird-sanctury/
SUMMARY:2nd June: Outings Butterflies and/or Fowlmere Bird Sanctury
DESCRIPTION:
END:VEVENT
BEGIN:VTIMEZONE
TZID:Europe/London
X-LIC-LOCATION:Europe/London
BEGIN:DAYLIGHT
DTSTART:20220327T020000
TZOFFSETFROM:+0000
TZOFFSETTO:+0100
TZNAME:BST
END:DAYLIGHT
END:VTIMEZONE
END:VCALENDAR