BEGIN:VCALENDAR
VERSION:2.0
PRODID:-//wp-events-plugin.com//7.2.3.1//EN
TZID:Europe/London
X-WR-TIMEZONE:Europe/London
BEGIN:VEVENT
UID:450@roystonphotographicsociety.co.uk
DTSTART;TZID=Europe/London:20230302T194500
DTEND;TZID=Europe/London:20230302T220000
DTSTAMP:20230224T100734Z
URL:https://roystonphotographicsociety.co.uk/events/2nd-march-critigue-our
 -own-images-rps-panel/
SUMMARY:2nd March: Critigue our own images\; RPS panel
DESCRIPTION:Supply your images either print or PDS for critique\n\nPanel of
  3 RPS members. Volunteers needed\n\n&nbsp\;
LOCATION:\, \, 
X-APPLE-STRUCTURED-LOCATION;VALUE=URI;X-ADDRESS=\, ;X-APPLE-RADIUS=100;X-TI
 TLE=:geo:0,0
END:VEVENT
BEGIN:VTIMEZONE
TZID:Europe/London
X-LIC-LOCATION:Europe/London
BEGIN:STANDARD
DTSTART:20221030T010000
TZOFFSETFROM:+0100
TZOFFSETTO:+0000
TZNAME:GMT
END:STANDARD
END:VTIMEZONE
END:VCALENDAR