BEGIN:VCALENDAR
VERSION:2.0
PRODID:-//wp-events-plugin.com//7.2.3.1//EN
TZID:Europe/London
X-WR-TIMEZONE:Europe/London
BEGIN:VEVENT
UID:452@roystonphotographicsociety.co.uk
DTSTART;TZID=Europe/London:20230302T194500
DTEND;TZID=Europe/London:20230302T220000
DTSTAMP:20230303T161013Z
URL:https://roystonphotographicsociety.co.uk/events/2nd-march-critique-pan
 el/
SUMMARY:2nd March: Critique Panel
DESCRIPTION:
LOCATION:\, \, 
X-APPLE-STRUCTURED-LOCATION;VALUE=URI;X-ADDRESS=\, ;X-APPLE-RADIUS=100;X-TI
 TLE=:geo:0,0
END:VEVENT
BEGIN:VTIMEZONE
TZID:Europe/London
X-LIC-LOCATION:Europe/London
BEGIN:STANDARD
DTSTART:20221030T010000
TZOFFSETFROM:+0100
TZOFFSETTO:+0000
TZNAME:GMT
END:STANDARD
END:VTIMEZONE
END:VCALENDAR