BEGIN:VCALENDAR
VERSION:2.0
PRODID:-//wp-events-plugin.com//7.2.3.1//EN
TZID:Europe/London
X-WR-TIMEZONE:Europe/London
BEGIN:VEVENT
UID:475@roystonphotographicsociety.co.uk
DTSTART;TZID=Europe/London:20231102T200000
DTEND;TZID=Europe/London:20231102T230000
DTSTAMP:20231031T224738Z
URL:https://roystonphotographicsociety.co.uk/events/2nd-november-practical
 -evening-in-west-campus-cambridge/
SUMMARY:2nd November - !!Change!!  ZOOM meeting with your images
DESCRIPTION:Due to forecasted bad weather the outing to Cambridge has been 
 cancelled. Instead we shall hold a ZOOM meeting at 8pm. Photoentry had bee
 n opened to upload 6 images per member. Members can talk about their image
 s together with discussion from audiance.
END:VEVENT
BEGIN:VTIMEZONE
TZID:Europe/London
X-LIC-LOCATION:Europe/London
BEGIN:STANDARD
DTSTART:20231029T010000
TZOFFSETFROM:+0100
TZOFFSETTO:+0000
TZNAME:GMT
END:STANDARD
END:VTIMEZONE
END:VCALENDAR