BEGIN:VCALENDAR
VERSION:2.0
PRODID:-//wp-events-plugin.com//7.2.3.1//EN
TZID:Europe/London
X-WR-TIMEZONE:Europe/London
BEGIN:VEVENT
UID:473@roystonphotographicsociety.co.uk
DTSTART;TZID=Europe/London:20230930T000000
DTEND;TZID=Europe/London:20231001T160000
DTSTAMP:20230924T125430Z
URL:https://roystonphotographicsociety.co.uk/events/30-9-1-10-rps-photogra
 phic-exhibition-at-the-royston-art-festival/
SUMMARY:30/9 - 1/10 RPS Photographic Exhibition at the Royston Art festival
DESCRIPTION:&nbsp\;44 images entered can be viewed on Photoentry
LOCATION:Royston Town Hall\, Melbourn Street\, Royston\, Herts.\, SG8 7DA\,
  United Kingdom
X-APPLE-STRUCTURED-LOCATION;VALUE=URI;X-ADDRESS=Melbourn Street\, Royston\,
  Herts.\, SG8 7DA\, United Kingdom;X-APPLE-RADIUS=100;X-TITLE=Royston Town
  Hall:geo:0,0
END:VEVENT
BEGIN:VTIMEZONE
TZID:Europe/London
X-LIC-LOCATION:Europe/London
BEGIN:DAYLIGHT
DTSTART:20230326T020000
TZOFFSETFROM:+0000
TZOFFSETTO:+0100
TZNAME:BST
END:DAYLIGHT
END:VTIMEZONE
END:VCALENDAR