BEGIN:VCALENDAR
VERSION:2.0
PRODID:-//wp-events-plugin.com//7.2.3.1//EN
TZID:Europe/London
X-WR-TIMEZONE:Europe/London
BEGIN:VEVENT
UID:415@roystonphotographicsociety.co.uk
DTSTART;TZID=Europe/London:20220331T194500
DTEND;TZID=Europe/London:20220331T220000
DTSTAMP:20220310T151353Z
URL:https://roystonphotographicsociety.co.uk/events/31st-march-club-night/
SUMMARY:31st March: First non-virtual Club Night- Equipment
DESCRIPTION:Welcome back! Lets socialise a little and talk. Please bring to
  show and discuss any interesting equipment\, particularly if purchased du
 ring Lockdown years.&nbsp\;
LOCATION:Foxton Village Hall\, Foxton Village Hall\, Foxton - Hardman Road\
 , CBB22 6RN\, Cambridgshire\, United Kingdom
X-APPLE-STRUCTURED-LOCATION;VALUE=URI;X-ADDRESS=Foxton Village Hall\, Foxto
 n - Hardman Road\, CBB22 6RN\, Cambridgshire\, United Kingdom;X-APPLE-RADI
 US=100;X-TITLE=Foxton Village Hall:geo:0,0
END:VEVENT
BEGIN:VTIMEZONE
TZID:Europe/London
X-LIC-LOCATION:Europe/London
BEGIN:DAYLIGHT
DTSTART:20220327T020000
TZOFFSETFROM:+0000
TZOFFSETTO:+0100
TZNAME:BST
END:DAYLIGHT
END:VTIMEZONE
END:VCALENDAR