BEGIN:VCALENDAR
VERSION:2.0
PRODID:-//wp-events-plugin.com//7.2.3.1//EN
TZID:Europe/London
X-WR-TIMEZONE:Europe/London
BEGIN:VEVENT
UID:431@roystonphotographicsociety.co.uk
DTSTART;TZID=Europe/London:20221103T194500
DTEND;TZID=Europe/London:20221103T220000
DTSTAMP:20221021T101842Z
URL:https://roystonphotographicsociety.co.uk/events/3rd-november-competiti
 on-2/
SUMMARY:3rd November: Competition 2 - Monochrome Print
DESCRIPTION:Subject: &nbsp\;Monochrome Print\n\nJudge: Jim Bennet
LOCATION:\, \, 
X-APPLE-STRUCTURED-LOCATION;VALUE=URI;X-ADDRESS=\, ;X-APPLE-RADIUS=100;X-TI
 TLE=:geo:0,0
END:VEVENT
BEGIN:VTIMEZONE
TZID:Europe/London
X-LIC-LOCATION:Europe/London
BEGIN:STANDARD
DTSTART:20221030T010000
TZOFFSETFROM:+0100
TZOFFSETTO:+0000
TZNAME:GMT
END:STANDARD
END:VTIMEZONE
END:VCALENDAR