BEGIN:VCALENDAR
VERSION:2.0
PRODID:-//wp-events-plugin.com//7.2.3.1//EN
TZID:Europe/London
X-WR-TIMEZONE:Europe/London
BEGIN:VEVENT
UID:447@roystonphotographicsociety.co.uk
DTSTART;TZID=Europe/London:20230105T194500
DTEND;TZID=Europe/London:20230105T220000
DTSTAMP:20221230T135508Z
URL:https://roystonphotographicsociety.co.uk/events/5th-january-internal-s
 peaker/
SUMMARY:5th January - Internal Speaker
DESCRIPTION:Peter Baker in association with the Museum - Archiving
END:VEVENT
BEGIN:VTIMEZONE
TZID:Europe/London
X-LIC-LOCATION:Europe/London
BEGIN:STANDARD
DTSTART:20221030T010000
TZOFFSETFROM:+0100
TZOFFSETTO:+0000
TZNAME:GMT
END:STANDARD
END:VTIMEZONE
END:VCALENDAR