BEGIN:VCALENDAR
VERSION:2.0
PRODID:-//wp-events-plugin.com//7.2.3.1//EN
TZID:Europe/London
X-WR-TIMEZONE:Europe/London
BEGIN:VEVENT
UID:416@roystonphotographicsociety.co.uk
DTSTART;TZID=Europe/London:20220505T200000
DTEND;TZID=Europe/London:20220505T220000
DTSTAMP:20220419T170225Z
URL:https://roystonphotographicsociety.co.uk/events/5th-may-show-and-tell/
SUMMARY:5th May - Competition: Macro and Close up on ZOOM
DESCRIPTION:Judge:&nbsp\; Alison Jenkins
END:VEVENT
BEGIN:VTIMEZONE
TZID:Europe/London
X-LIC-LOCATION:Europe/London
BEGIN:DAYLIGHT
DTSTART:20220327T020000
TZOFFSETFROM:+0000
TZOFFSETTO:+0100
TZNAME:BST
END:DAYLIGHT
END:VTIMEZONE
END:VCALENDAR