BEGIN:VCALENDAR
VERSION:2.0
PRODID:-//wp-events-plugin.com//7.2.3.1//EN
TZID:Europe/London
X-WR-TIMEZONE:Europe/London
BEGIN:VEVENT
UID:454@roystonphotographicsociety.co.uk
DTSTART;TZID=Europe/London;VALUE=DATE:20230406
DTEND;TZID=Europe/London;VALUE=DATE:20230407
DTSTAMP:20230303T161630Z
URL:https://roystonphotographicsociety.co.uk/events/6th-april-2023-easter-
 break-no-club/
SUMMARY:6th April: Easter Break - No Club
DESCRIPTION:
END:VEVENT
BEGIN:VTIMEZONE
TZID:Europe/London
X-LIC-LOCATION:Europe/London
BEGIN:DAYLIGHT
DTSTART:20230326T020000
TZOFFSETFROM:+0000
TZOFFSETTO:+0100
TZNAME:BST
END:DAYLIGHT
END:VTIMEZONE
END:VCALENDAR