BEGIN:VCALENDAR
VERSION:2.0
PRODID:-//wp-events-plugin.com//7.2.3.1//EN
TZID:Europe/London
X-WR-TIMEZONE:Europe/London
BEGIN:VEVENT
UID:430@roystonphotographicsociety.co.uk
DTSTART;TZID=Europe/London:20221006T194500
DTEND;TZID=Europe/London:20221006T220000
DTSTAMP:20220926T120703Z
URL:https://roystonphotographicsociety.co.uk/events/6th-october-competitio
 n-1/
SUMMARY:6th October - Competition 1- Open PDI
DESCRIPTION:subject - Open PDI\n\nJudge:&nbsp\; Penny Reeves\n\n&nbsp\;
LOCATION:\, \, 
X-APPLE-STRUCTURED-LOCATION;VALUE=URI;X-ADDRESS=\, ;X-APPLE-RADIUS=100;X-TI
 TLE=:geo:0,0
END:VEVENT
BEGIN:VTIMEZONE
TZID:Europe/London
X-LIC-LOCATION:Europe/London
BEGIN:DAYLIGHT
DTSTART:20220327T020000
TZOFFSETFROM:+0000
TZOFFSETTO:+0100
TZNAME:BST
END:DAYLIGHT
END:VTIMEZONE
END:VCALENDAR