BEGIN:VCALENDAR
VERSION:2.0
PRODID:-//wp-events-plugin.com//7.2.3.1//EN
TZID:Europe/London
X-WR-TIMEZONE:Europe/London
BEGIN:VEVENT
UID:414@roystonphotographicsociety.co.uk
DTSTART;TZID=Europe/London:20220407T194500
DTEND;TZID=Europe/London:20220407T230000
DTSTAMP:20220317T191409Z
URL:https://roystonphotographicsociety.co.uk/events/7th-april-school-is-cl
 osed/
SUMMARY:7th April - Outing
DESCRIPTION:Outing?&nbsp\; Street Photography (venue to decide)&nbsp\; or C
 hurch Hill for Pasque flowers?
END:VEVENT
BEGIN:VTIMEZONE
TZID:Europe/London
X-LIC-LOCATION:Europe/London
BEGIN:DAYLIGHT
DTSTART:20220327T020000
TZOFFSETFROM:+0000
TZOFFSETTO:+0100
TZNAME:BST
END:DAYLIGHT
END:VTIMEZONE
END:VCALENDAR