BEGIN:VCALENDAR
VERSION:2.0
PRODID:-//wp-events-plugin.com//7.2.3.1//EN
TZID:Europe/London
X-WR-TIMEZONE:Europe/London
BEGIN:VEVENT
UID:456@roystonphotographicsociety.co.uk
DTSTART;TZID=Europe/London:20230420T194500
DTEND;TZID=Europe/London:20230420T220000
DTSTAMP:20230415T222923Z
URL:https://roystonphotographicsociety.co.uk/events/8389/
SUMMARY:20th April - Outing to Cambridge
DESCRIPTION:Evening Photography with Peter Baker in Cambridge.&nbsp\; Meet 
 at 19.45 as per Peter's instructions.
END:VEVENT
BEGIN:VTIMEZONE
TZID:Europe/London
X-LIC-LOCATION:Europe/London
BEGIN:DAYLIGHT
DTSTART:20230326T020000
TZOFFSETFROM:+0000
TZOFFSETTO:+0100
TZNAME:BST
END:DAYLIGHT
END:VTIMEZONE
END:VCALENDAR