BEGIN:VCALENDAR
VERSION:2.0
PRODID:-//wp-events-plugin.com//7.2.3.1//EN
TZID:Europe/London
X-WR-TIMEZONE:Europe/London
BEGIN:VEVENT
UID:422@roystonphotographicsociety.co.uk
DTSTART;TZID=Europe/London:20220908T194500
DTEND;TZID=Europe/London:20220908T220000
DTSTAMP:20220823T174839Z
URL:https://roystonphotographicsociety.co.uk/events/8th-september-opening-
 night/
SUMMARY:8th September - Opening night
DESCRIPTION:Welcome\,&nbsp\; refreshmens\, quizz! The quizz is organised by
  Peter Baker\n\nShow and tell any prints you wish to share.\n\nCollect out
 standing images for the Museum Exhibition and RAF show!!
LOCATION:\, \, 
X-APPLE-STRUCTURED-LOCATION;VALUE=URI;X-ADDRESS=\, ;X-APPLE-RADIUS=100;X-TI
 TLE=:geo:0,0
END:VEVENT
BEGIN:VTIMEZONE
TZID:Europe/London
X-LIC-LOCATION:Europe/London
BEGIN:DAYLIGHT
DTSTART:20220327T020000
TZOFFSETFROM:+0000
TZOFFSETTO:+0100
TZNAME:BST
END:DAYLIGHT
END:VTIMEZONE
END:VCALENDAR