BEGIN:VCALENDAR
VERSION:2.0
PRODID:-//wp-events-plugin.com//7.2.3.1//EN
TZID:Europe/London
X-WR-TIMEZONE:Europe/London
BEGIN:VEVENT
UID:405@roystonphotographicsociety.co.uk
DTSTART;TZID=Europe/London:20220414T194500
DTEND;TZID=Europe/London:20220414T220000
DTSTAMP:20220125T193424Z
URL:https://roystonphotographicsociety.co.uk/events/april-14th-speaker-dav
 id-garthwaite-on-zoom/
SUMMARY:April 14th: Speaker:  David Garthwaite - on ZOOM
DESCRIPTION:click here for more information\n\nand access a presentation &n
 bsp\;'Fine Art : A workflow' with&nbsp\; some images to help with that - b
 y clicking here&nbsp\;\n\nhttps://drive.google.com/drive/folders/1fgweOlJu
 Mgxj9RXEQ1tuXUvuOyzNk1K-?usp=sharing\n\nwww.dgshot.uk\nwww.instagram.com/d
 gshot.uk/
END:VEVENT
BEGIN:VTIMEZONE
TZID:Europe/London
X-LIC-LOCATION:Europe/London
BEGIN:DAYLIGHT
DTSTART:20220327T020000
TZOFFSETFROM:+0000
TZOFFSETTO:+0100
TZNAME:BST
END:DAYLIGHT
END:VTIMEZONE
END:VCALENDAR