BEGIN:VCALENDAR
VERSION:2.0
PRODID:-//wp-events-plugin.com//7.2.3.1//EN
TZID:Europe/London
X-WR-TIMEZONE:Europe/London
BEGIN:VEVENT
UID:412@roystonphotographicsociety.co.uk
DTSTART;TZID=Europe/London:20220203T194500
DTEND;TZID=Europe/London:20220203T220000
DTSTAMP:20220118T133133Z
URL:https://roystonphotographicsociety.co.uk/events/club-night-2/
SUMMARY:3rd February: Club Night - All about Royston
DESCRIPTION:Peter will update us about the current archive project for the 
 Museum.\n\nAlso if you have any Royston Pictures - does not matter how old
 !\, please share on PhotEntry when opened.\n\n&nbsp\;\n\n&nbsp\;
END:VEVENT
BEGIN:VTIMEZONE
TZID:Europe/London
X-LIC-LOCATION:Europe/London
BEGIN:STANDARD
DTSTART:20211031T010000
TZOFFSETFROM:+0100
TZOFFSETTO:+0000
TZNAME:GMT
END:STANDARD
END:VTIMEZONE
END:VCALENDAR