BEGIN:VCALENDAR
VERSION:2.0
PRODID:-//wp-events-plugin.com//7.2.3.1//EN
TZID:Europe/London
X-WR-TIMEZONE:Europe/London
BEGIN:VEVENT
UID:381@roystonphotographicsociety.co.uk
DTSTART;TZID=Europe/London:20220210T200000
DTEND;TZID=Europe/London:20220210T220000
DTSTAMP:20220114T173217Z
URL:https://roystonphotographicsociety.co.uk/events/competition-5-open-pri
 nt/
SUMMARY:10th February: Competition 5 - Open Print
DESCRIPTION:Images may be of any topic. Images can be either colour or mono
 chrome. This competition will be on ZOOM.\n\nPlease not the submission dat
 e&nbsp\; to PhotoEntry is 1st February.
END:VEVENT
BEGIN:VTIMEZONE
TZID:Europe/London
X-LIC-LOCATION:Europe/London
BEGIN:STANDARD
DTSTART:20211031T010000
TZOFFSETFROM:+0100
TZOFFSETTO:+0000
TZNAME:GMT
END:STANDARD
END:VTIMEZONE
END:VCALENDAR