BEGIN:VCALENDAR
VERSION:2.0
PRODID:-//wp-events-plugin.com//7.2.3.1//EN
TZID:Europe/London
X-WR-TIMEZONE:Europe/London
BEGIN:VEVENT
UID:382@roystonphotographicsociety.co.uk
DTSTART;TZID=Europe/London:20220317T200000
DTEND;TZID=Europe/London:20220317T220000
DTSTAMP:20210925T145920Z
URL:https://roystonphotographicsociety.co.uk/events/competition-6-derilict
 ion-decay/
SUMMARY:17th March: Competition 6 - Dereliction & Decay - PDI on ZOOM
DESCRIPTION:Typically this should be buildings\, man-made objects\, machine
 ry in a state of decay or dereliction. No dead animals please.
END:VEVENT
BEGIN:VTIMEZONE
TZID:Europe/London
X-LIC-LOCATION:Europe/London
BEGIN:STANDARD
DTSTART:20211031T010000
TZOFFSETFROM:+0100
TZOFFSETTO:+0000
TZNAME:GMT
END:STANDARD
END:VTIMEZONE
END:VCALENDAR