BEGIN:VCALENDAR
VERSION:2.0
PRODID:-//wp-events-plugin.com//7.2.3.1//EN
TZID:Europe/London
X-WR-TIMEZONE:Europe/London
BEGIN:VEVENT
UID:383@roystonphotographicsociety.co.uk
DTSTART;TZID=Europe/London:20220421T200000
DTEND;TZID=Europe/London:20220421T220000
DTSTAMP:20220419T170058Z
URL:https://roystonphotographicsociety.co.uk/events/competition-7-macro-cl
 ose-up/
SUMMARY:21st April: Cancelled
DESCRIPTION:&nbsp\;\n\nThis competition requires you to photograph an objec
 t\, animal\, bird or insect at greater than life-size (which may be achiev
 ed by cropping). Therefore am image may be produced using a macro or telep
 hoto lens\, provided that the eventual image is greater than life-size.
END:VEVENT
BEGIN:VTIMEZONE
TZID:Europe/London
X-LIC-LOCATION:Europe/London
BEGIN:DAYLIGHT
DTSTART:20220327T020000
TZOFFSETFROM:+0000
TZOFFSETTO:+0100
TZNAME:BST
END:DAYLIGHT
END:VTIMEZONE
END:VCALENDAR