BEGIN:VCALENDAR
VERSION:2.0
PRODID:-//wp-events-plugin.com//7.2.3.1//EN
TZID:Europe/London
X-WR-TIMEZONE:Europe/London
BEGIN:VEVENT
UID:403@roystonphotographicsociety.co.uk
DTSTART;TZID=Europe/London:20220217T194500
DTEND;TZID=Europe/London:20220217T220000
DTSTAMP:20211116T130818Z
URL:https://roystonphotographicsociety.co.uk/events/february-17th-speaker-
 on-zoom-glenys-garnett-creative-images/
SUMMARY:17th February:  Speaker on ZOOM: Glenys Garnett - Creative images
DESCRIPTION:Glenys Garnett - website
END:VEVENT
BEGIN:VTIMEZONE
TZID:Europe/London
X-LIC-LOCATION:Europe/London
BEGIN:STANDARD
DTSTART:20211031T010000
TZOFFSETFROM:+0100
TZOFFSETTO:+0000
TZNAME:GMT
END:STANDARD
END:VTIMEZONE
END:VCALENDAR