BEGIN:VCALENDAR
VERSION:2.0
PRODID:-//wp-events-plugin.com//7.2.3.1//EN
TZID:Europe/London
X-WR-TIMEZONE:Europe/London
BEGIN:VEVENT
UID:407@roystonphotographicsociety.co.uk
DTSTART;TZID=Europe/London:20220512T194500
DTEND;TZID=Europe/London:20220512T220000
DTSTAMP:20220508T201641Z
URL:https://roystonphotographicsociety.co.uk/events/may12th-speaker-chris-
 shephard-london-street-photography/
SUMMARY:12th May: Speaker: Chris Shepherd - 'London Light/London Life'
DESCRIPTION:https://www.shepherdpics.com/about\n\nThis presentation willl b
 e on ZOOM&nbsp\;
END:VEVENT
BEGIN:VTIMEZONE
TZID:Europe/London
X-LIC-LOCATION:Europe/London
BEGIN:DAYLIGHT
DTSTART:20220327T020000
TZOFFSETFROM:+0000
TZOFFSETTO:+0100
TZNAME:BST
END:DAYLIGHT
END:VTIMEZONE
END:VCALENDAR