BEGIN:VCALENDAR
VERSION:2.0
PRODID:-//wp-events-plugin.com//7.2.3.1//EN
TZID:Europe/London
X-WR-TIMEZONE:Europe/London
BEGIN:VEVENT
UID:404@roystonphotographicsociety.co.uk
DTSTART;TZID=Europe/London:20220303T194500
DTEND;TZID=Europe/London:20220303T220000
DTSTAMP:20220225T164847Z
URL:https://roystonphotographicsociety.co.uk/events/speaker-harrybehidthel
 ens-east-anglian-landscape/
SUMMARY:3rd March: Speaker: Harrybehidthelens - East Anglian Landscape
DESCRIPTION:on ZOOM\n\nhttps://www.harrybehindthelens.com/
END:VEVENT
BEGIN:VTIMEZONE
TZID:Europe/London
X-LIC-LOCATION:Europe/London
BEGIN:STANDARD
DTSTART:20211031T010000
TZOFFSETFROM:+0100
TZOFFSETTO:+0000
TZNAME:GMT
END:STANDARD
END:VTIMEZONE
END:VCALENDAR