BEGIN:VCALENDAR
VERSION:2.0
PRODID:-//wp-events-plugin.com//7.2.3.1//EN
TZID:Europe/London
X-WR-TIMEZONE:Europe/London
BEGIN:VEVENT
UID:469@roystonphotographicsociety.co.uk
DTSTART;TZID=Europe/London:20231207T194500
DTEND;TZID=Europe/London:20231207T220000
DTSTAMP:20230924T144308Z
URL:https://roystonphotographicsociety.co.uk/events/speaker-peter-benson-l
 ondon-nights-on-zoom/
SUMMARY:7th December : Speaker: Peter Benson - London Nights\,   on ZOOM
DESCRIPTION:
END:VEVENT
BEGIN:VTIMEZONE
TZID:Europe/London
X-LIC-LOCATION:Europe/London
BEGIN:STANDARD
DTSTART:20231029T010000
TZOFFSETFROM:+0100
TZOFFSETTO:+0000
TZNAME:GMT
END:STANDARD
END:VTIMEZONE
END:VCALENDAR